Package: multicrispr Version: 1.19.1 Command: /home/biocbuild/bbs-3.22-bioc/R/bin/R CMD INSTALL multicrispr StartedAt: 2025-10-01 15:53:13 -0400 (Wed, 01 Oct 2025) EndedAt: 2025-10-01 15:53:59 -0400 (Wed, 01 Oct 2025) EllapsedTime: 45.9 seconds RetCode: 0 Status: OK