Package: multicrispr Version: 1.19.1 Command: /home/biocbuild/bbs-3.22-bioc/R/bin/R CMD build --keep-empty-dirs --no-resave-data --md5 multicrispr StartedAt: 2025-09-30 18:54:38 -0400 (Tue, 30 Sep 2025) EndedAt: 2025-09-30 18:56:21 -0400 (Tue, 30 Sep 2025) EllapsedTime: 103.1 seconds RetCode: 0 Status: OK PackageFile: multicrispr_1.19.1.tar.gz PackageFileSize: 2.577 MiB