Package: multiWGCNA Version: 1.7.0 Command: /home/biocbuild/bbs-3.22-bioc/R/bin/R CMD INSTALL multiWGCNA StartedAt: 2025-10-22 15:44:34 -0400 (Wed, 22 Oct 2025) EndedAt: 2025-10-22 15:45:06 -0400 (Wed, 22 Oct 2025) EllapsedTime: 32.2 seconds RetCode: 0 Status: OK