Package: multiWGCNA Version: 1.7.0 Command: /home/biocbuild/bbs-3.22-bioc/R/bin/R CMD build --keep-empty-dirs --no-resave-data --md5 multiWGCNA StartedAt: 2025-10-22 18:58:20 -0400 (Wed, 22 Oct 2025) EndedAt: 2025-10-22 19:02:23 -0400 (Wed, 22 Oct 2025) EllapsedTime: 243.2 seconds RetCode: 0 Status: OK PackageFile: multiWGCNA_1.7.0.tar.gz PackageFileSize: 3.432 MiB