Package: multiClust Version: 1.39.0 Command: /home/biocbuild/bbs-3.22-bioc/R/bin/R CMD INSTALL multiClust StartedAt: 2025-10-02 15:09:23 -0400 (Thu, 02 Oct 2025) EndedAt: 2025-10-02 15:09:30 -0400 (Thu, 02 Oct 2025) EllapsedTime: 7.2 seconds RetCode: 0 Status: OK