Package: msgbsR Version: 1.33.1 Command: /home/biocbuild/bbs-3.22-bioc/R/bin/R CMD INSTALL msgbsR StartedAt: 2025-10-01 16:02:57 -0400 (Wed, 01 Oct 2025) EndedAt: 2025-10-01 16:04:19 -0400 (Wed, 01 Oct 2025) EllapsedTime: 82.6 seconds RetCode: 0 Status: OK