Package: motifStack Version: 1.55.0 Command: /home/biocbuild/bbs-3.23-bioc/R/bin/R CMD INSTALL motifStack StartedAt: 2025-11-14 15:52:58 -0500 (Fri, 14 Nov 2025) EndedAt: 2025-11-14 15:53:45 -0500 (Fri, 14 Nov 2025) EllapsedTime: 47.1 seconds RetCode: 0 Status: OK