Package: motifStack Version: 1.53.0 Command: /Library/Frameworks/R.framework/Resources/bin/R CMD INSTALL motifStack StartedAt: 2025-10-17 15:44:17 -0400 (Fri, 17 Oct 2025) EndedAt: 2025-10-17 15:45:24 -0400 (Fri, 17 Oct 2025) EllapsedTime: 66.2 seconds RetCode: 0 Status: OK