Package: motifStack Version: 1.53.0 Command: /Library/Frameworks/R.framework/Resources/bin/R CMD build --keep-empty-dirs --no-resave-data motifStack StartedAt: 2025-10-17 18:14:48 -0400 (Fri, 17 Oct 2025) EndedAt: 2025-10-17 18:19:04 -0400 (Fri, 17 Oct 2025) EllapsedTime: 255.1 seconds RetCode: 0 Status: OK PackageFile: motifStack_1.53.0.tar.gz PackageFileSize: 3.853 MiB