Package: motifStack Version: 1.53.0 Command: rm -rf motifStack.buildbin-libdir && mkdir motifStack.buildbin-libdir && /Users/biocbuild/BBS/utils/build-universal.sh motifStack_1.53.0.tar.gz /Library/Frameworks/R.framework/Resources/bin/R motifStack.buildbin-libdir StartedAt: 2025-10-17 04:01:31 -0400 (Fri, 17 Oct 2025) EndedAt: 2025-10-17 04:02:41 -0400 (Fri, 17 Oct 2025) EllapsedTime: 69.2 seconds RetCode: 0 Status: OK PackageFile: motifStack_1.53.0.tgz PackageFileSize: 4.831 MiB