Package: motifStack Version: 1.53.0 Command: /Library/Frameworks/R.framework/Resources/bin/R CMD INSTALL motifStack StartedAt: 2025-10-01 15:27:35 -0400 (Wed, 01 Oct 2025) EndedAt: 2025-10-01 15:27:54 -0400 (Wed, 01 Oct 2025) EllapsedTime: 18.7 seconds RetCode: 0 Status: OK