Package: minet Version: 3.67.0 Command: /home/biocbuild/bbs-3.22-bioc/R/bin/R CMD INSTALL minet StartedAt: 2025-10-08 15:22:36 -0400 (Wed, 08 Oct 2025) EndedAt: 2025-10-08 15:22:47 -0400 (Wed, 08 Oct 2025) EllapsedTime: 10.8 seconds RetCode: 0 Status: OK