Back to Build/check report for BioC 3.23:   simplified   long
ABCDEFGHIJKL[M]NOPQRSTUVWXYZ

This page was generated on 2025-10-31 08:34 -0400 (Fri, 31 Oct 2025).

HostnameOSArch (*)R versionInstalled pkgs
nebbiolo1Linux (Ubuntu 24.04.3 LTS)x86_64R Under development (unstable) (2025-10-20 r88955) -- "Unsuffered Consequences" 4428
Click on any hostname to see more info about the system (e.g. compilers)      (*) as reported by 'uname -p', except on Windows and Mac OS X

All results for package minet


To the developers/maintainers of the minet package:
- Allow up to 24 hours (and sometimes 48 hours) for your latest push to git@git.bioconductor.org:packages/minet.git to reflect on this report. See Troubleshooting Build Report for more information.
- Use the following Renviron settings to reproduce errors and warnings.
- If 'R CMD check' started to fail recently on the Linux builder(s) over a missing dependency, add the missing dependency to 'Suggests:' in your DESCRIPTION file. See Renviron.bioc for more information.

raw results

Package 1286/2321HostnameOS / ArchINSTALLBUILDCHECKBUILD BIN
minet 3.69.0  (landing page)
Patrick E. Meyer
Snapshot Date: 2025-10-30 13:40 -0400 (Thu, 30 Oct 2025)
git_url: https://git.bioconductor.org/packages/minet
git_branch: devel
git_last_commit: 46d68a0
git_last_commit_date: 2025-10-29 10:01:00 -0400 (Wed, 29 Oct 2025)
nebbiolo1Linux (Ubuntu 24.04.3 LTS) / x86_64  OK    OK    OK  YES



Results for Bioconductor software packages that depend directly on package minet

QUICK STATSOS / ArchINSTALLBUILDCHECKBUILD BIN
nebbiolo1Linux (Ubuntu 24.04.3 LTS) / x86_64
006
006
0105
Package 1/6HostnameOS / ArchINSTALLBUILDCHECKBUILD BIN
BioNERO 1.19.0  (landing page)
Fabricio Almeida-Silva
git_last_commit: 632a85b
git_last_commit_date: 2025-10-29 11:07:25 -0400
nebbiolo1Linux (Ubuntu 24.04.3 LTS) / x86_64  OK    OK    OK  NO, package depends on 'sva' which is not available
Package 2/6HostnameOS / ArchINSTALLBUILDCHECKBUILD BIN
BUS 1.67.0  (landing page)
Yuanhua Liu
git_last_commit: cd1c6ee
git_last_commit_date: 2025-10-29 10:03:09 -0400
nebbiolo1Linux (Ubuntu 24.04.3 LTS) / x86_64  OK    OK    OK  YES
Package 3/6HostnameOS / ArchINSTALLBUILDCHECKBUILD BIN
epiNEM 1.35.0  (landing page)
Martin Pirkl
git_last_commit: d7bc809
git_last_commit_date: 2025-10-29 10:37:16 -0400
nebbiolo1Linux (Ubuntu 24.04.3 LTS) / x86_64  OK    OK    ERROR  
Package 4/6HostnameOS / ArchINSTALLBUILDCHECKBUILD BIN
geNetClassifier 1.51.0  (landing page)
Sara Aibar
git_last_commit: dd74241
git_last_commit_date: 2025-10-29 10:14:31 -0400
nebbiolo1Linux (Ubuntu 24.04.3 LTS) / x86_64  OK    OK    OK  YES
Package 5/6HostnameOS / ArchINSTALLBUILDCHECKBUILD BIN
netresponse 1.71.0  (landing page)
Leo Lahti
git_last_commit: 8295054
git_last_commit_date: 2025-10-29 10:05:48 -0400
nebbiolo1Linux (Ubuntu 24.04.3 LTS) / x86_64  OK    OK    OK  YES
Package 6/6HostnameOS / ArchINSTALLBUILDCHECKBUILD BIN
RTN 2.35.0  (landing page)
Mauro Castro
git_last_commit: 4efc78c
git_last_commit_date: 2025-10-29 10:15:52 -0400
nebbiolo1Linux (Ubuntu 24.04.3 LTS) / x86_64  OK    OK    OK  NO, package depends on 'IRanges' which is not available