Package: microbiomeDASim Version: 1.23.0 Command: /home/biocbuild/bbs-3.22-bioc/R/bin/R CMD build --keep-empty-dirs --no-resave-data --md5 microbiomeDASim StartedAt: 2025-10-03 18:38:05 -0400 (Fri, 03 Oct 2025) EndedAt: 2025-10-03 18:38:51 -0400 (Fri, 03 Oct 2025) EllapsedTime: 46.0 seconds RetCode: 0 Status: OK PackageFile: microbiomeDASim_1.23.0.tar.gz PackageFileSize: 1.5 MiB