Package: methylclock Version: 1.15.0 Command: /home/biocbuild/bbs-3.22-bioc/R/bin/R CMD INSTALL methylclock StartedAt: 2025-10-22 15:49:58 -0400 (Wed, 22 Oct 2025) EndedAt: 2025-10-22 15:51:08 -0400 (Wed, 22 Oct 2025) EllapsedTime: 70.0 seconds RetCode: 0 Status: OK