Package: methylKit Version: 1.35.1 Command: /home/biocbuild/bbs-3.22-bioc/R/bin/R CMD INSTALL methylKit StartedAt: 2025-10-14 15:26:50 -0400 (Tue, 14 Oct 2025) EndedAt: 2025-10-14 15:27:49 -0400 (Tue, 14 Oct 2025) EllapsedTime: 58.9 seconds RetCode: 0 Status: OK