Package: methylKit Version: 1.35.1 Command: /home/biocbuild/bbs-3.22-bioc/R/bin/R CMD build --keep-empty-dirs --no-resave-data --md5 methylKit StartedAt: 2025-10-14 18:36:34 -0400 (Tue, 14 Oct 2025) EndedAt: 2025-10-14 18:37:59 -0400 (Tue, 14 Oct 2025) EllapsedTime: 85.0 seconds RetCode: 0 Status: OK PackageFile: methylKit_1.35.1.tar.gz PackageFileSize: 1.347 MiB