Package: methylInheritance Version: 1.35.0 Command: /home/biocbuild/bbs-3.23-bioc/R/bin/R CMD INSTALL methylInheritance StartedAt: 2025-11-14 15:29:44 -0500 (Fri, 14 Nov 2025) EndedAt: 2025-11-14 15:30:23 -0500 (Fri, 14 Nov 2025) EllapsedTime: 39.4 seconds RetCode: 0 Status: OK