Package: methylInheritance Version: 1.35.0 Command: /home/biocbuild/bbs-3.23-bioc/R/bin/R CMD build --keep-empty-dirs --no-resave-data methylInheritance StartedAt: 2025-11-14 18:34:22 -0500 (Fri, 14 Nov 2025) EndedAt: 2025-11-14 18:35:42 -0500 (Fri, 14 Nov 2025) EllapsedTime: 80.0 seconds RetCode: 0 Status: OK PackageFile: methylInheritance_1.35.0.tar.gz PackageFileSize: 1.71 MiB