Package: methylInheritance Version: 1.33.1 Maintainer: Astrid DeschĂȘnes MaintainerEmail: adeschen at hotmail.com git_url: https://git.bioconductor.org/packages/methylInheritance git_branch: devel git_last_commit: 8bce9e0 git_last_commit_date: 2025-09-16 00:37:04 -0400 (Tue, 16 Sep 2025)