Package: methrix Version: 1.23.1 Command: /home/biocbuild/bbs-3.22-bioc/R/bin/R CMD INSTALL methrix StartedAt: 2025-10-17 15:34:53 -0400 (Fri, 17 Oct 2025) EndedAt: 2025-10-17 15:35:33 -0400 (Fri, 17 Oct 2025) EllapsedTime: 40.2 seconds RetCode: 0 Status: OK