Package: methrix Version: 1.25.0 Command: /Library/Frameworks/R.framework/Resources/bin/R CMD INSTALL methrix StartedAt: 2025-11-24 15:18:11 -0500 (Mon, 24 Nov 2025) EndedAt: 2025-11-24 15:18:29 -0500 (Mon, 24 Nov 2025) EllapsedTime: 17.2 seconds RetCode: 0 Status: OK