Package: methrix Version: 1.25.0 Command: /Library/Frameworks/R.framework/Resources/bin/R CMD build --keep-empty-dirs --no-resave-data methrix StartedAt: 2025-11-24 17:01:53 -0500 (Mon, 24 Nov 2025) EndedAt: 2025-11-24 17:03:36 -0500 (Mon, 24 Nov 2025) EllapsedTime: 103.1 seconds RetCode: 0 Status: OK PackageFile: methrix_1.25.0.tar.gz PackageFileSize: 4.077 MiB