Package: methInheritSim Version: 1.33.0 Command: /home/biocbuild/bbs-3.23-bioc/R/bin/R CMD INSTALL methInheritSim StartedAt: 2025-11-20 15:29:05 -0500 (Thu, 20 Nov 2025) EndedAt: 2025-11-20 15:29:44 -0500 (Thu, 20 Nov 2025) EllapsedTime: 39.6 seconds RetCode: 0 Status: OK