Package: methInheritSim Version: 1.33.0 Command: /Library/Frameworks/R.framework/Resources/bin/R CMD INSTALL methInheritSim StartedAt: 2025-11-21 15:35:12 -0500 (Fri, 21 Nov 2025) EndedAt: 2025-11-21 15:36:04 -0500 (Fri, 21 Nov 2025) EllapsedTime: 51.3 seconds RetCode: 0 Status: OK