Package: methInheritSim Version: 1.33.0 Command: /Library/Frameworks/R.framework/Resources/bin/R CMD build --keep-empty-dirs --no-resave-data methInheritSim StartedAt: 2025-11-21 17:38:57 -0500 (Fri, 21 Nov 2025) EndedAt: 2025-11-21 17:40:15 -0500 (Fri, 21 Nov 2025) EllapsedTime: 77.6 seconds RetCode: 0 Status: OK PackageFile: methInheritSim_1.33.0.tar.gz PackageFileSize: 1.117 MiB