Package: methInheritSim Version: 1.31.1 Command: /Library/Frameworks/R.framework/Resources/bin/R CMD INSTALL methInheritSim StartedAt: 2025-10-28 15:17:34 -0400 (Tue, 28 Oct 2025) EndedAt: 2025-10-28 15:17:49 -0400 (Tue, 28 Oct 2025) EllapsedTime: 15.1 seconds RetCode: 0 Status: OK