Package: meshr Version: 2.15.0 Command: /home/biocbuild/bbs-3.22-bioc/R/bin/R CMD INSTALL meshr StartedAt: 2025-10-14 15:30:22 -0400 (Tue, 14 Oct 2025) EndedAt: 2025-10-14 15:30:42 -0400 (Tue, 14 Oct 2025) EllapsedTime: 20.1 seconds RetCode: 0 Status: OK