Package: meshr Version: 2.15.0 Command: /home/biocbuild/bbs-3.22-bioc/R/bin/R CMD build --keep-empty-dirs --no-resave-data --md5 meshr StartedAt: 2025-10-14 18:31:16 -0400 (Tue, 14 Oct 2025) EndedAt: 2025-10-14 18:31:39 -0400 (Tue, 14 Oct 2025) EllapsedTime: 23.0 seconds RetCode: 0 Status: OK PackageFile: meshr_2.15.0.tar.gz PackageFileSize: 1002 KiB