Package: meshes Version: 1.35.0 Command: /home/biocbuild/bbs-3.22-bioc/R/bin/R CMD INSTALL meshes StartedAt: 2025-10-22 15:46:59 -0400 (Wed, 22 Oct 2025) EndedAt: 2025-10-22 15:47:25 -0400 (Wed, 22 Oct 2025) EllapsedTime: 25.8 seconds RetCode: 0 Status: OK