Package: meshes Version: 1.35.0 Command: /home/biocbuild/bbs-3.22-bioc/R/bin/R CMD build --keep-empty-dirs --no-resave-data --md5 meshes StartedAt: 2025-10-22 18:33:08 -0400 (Wed, 22 Oct 2025) EndedAt: 2025-10-22 18:33:35 -0400 (Wed, 22 Oct 2025) EllapsedTime: 27.0 seconds RetCode: 0 Status: OK PackageFile: meshes_1.35.0.tar.gz PackageFileSize: 923.4 KiB