Package: maPredictDSC Version: 1.47.0 Command: /home/biocbuild/bbs-3.22-bioc/R/bin/R CMD build --keep-empty-dirs --no-resave-data --md5 maPredictDSC StartedAt: 2025-10-01 18:47:09 -0400 (Wed, 01 Oct 2025) EndedAt: 2025-10-01 18:48:36 -0400 (Wed, 01 Oct 2025) EllapsedTime: 87.1 seconds RetCode: 0 Status: OK PackageFile: maPredictDSC_1.47.0.tar.gz PackageFileSize: 198.1 KiB