Package: maCorrPlot Version: 1.79.0 Command: /home/biocbuild/bbs-3.22-bioc/R/bin/R CMD INSTALL maCorrPlot StartedAt: 2025-09-30 15:04:33 -0400 (Tue, 30 Sep 2025) EndedAt: 2025-09-30 15:04:56 -0400 (Tue, 30 Sep 2025) EllapsedTime: 23.6 seconds RetCode: 0 Status: OK