Package: m6Aboost Version: 1.15.1 Command: /home/biocbuild/bbs-3.22-bioc/R/bin/R CMD INSTALL m6Aboost StartedAt: 2025-10-02 15:58:53 -0400 (Thu, 02 Oct 2025) EndedAt: 2025-10-02 15:59:36 -0400 (Thu, 02 Oct 2025) EllapsedTime: 43.3 seconds RetCode: 0 Status: OK