Package: m6Aboost Version: 1.15.1 Command: /home/biocbuild/bbs-3.22-bioc/R/bin/R CMD build --keep-empty-dirs --no-resave-data --md5 m6Aboost StartedAt: 2025-10-01 18:45:17 -0400 (Wed, 01 Oct 2025) EndedAt: 2025-10-01 18:46:28 -0400 (Wed, 01 Oct 2025) EllapsedTime: 71.1 seconds RetCode: 0 Status: OK PackageFile: m6Aboost_1.15.1.tar.gz PackageFileSize: 759.5 KiB