Package: looking4clusters Version: 0.99.4 Command: /home/biocbuild/bbs-3.22-bioc/R/bin/R CMD INSTALL looking4clusters StartedAt: 2025-10-08 15:36:09 -0400 (Wed, 08 Oct 2025) EndedAt: 2025-10-08 15:36:11 -0400 (Wed, 08 Oct 2025) EllapsedTime: 2.4 seconds RetCode: 0 Status: OK