Package: kebabs Version: 1.43.1 Command: /home/biocbuild/bbs-3.22-bioc/R/bin/R CMD INSTALL kebabs StartedAt: 2025-10-22 15:15:16 -0400 (Wed, 22 Oct 2025) EndedAt: 2025-10-22 15:16:52 -0400 (Wed, 22 Oct 2025) EllapsedTime: 95.4 seconds RetCode: 0 Status: OK