Package: kebabs Version: 1.43.1 Command: /home/biocbuild/bbs-3.22-bioc/R/bin/R CMD build --keep-empty-dirs --no-resave-data --md5 kebabs StartedAt: 2025-10-21 18:20:21 -0400 (Tue, 21 Oct 2025) EndedAt: 2025-10-21 18:24:25 -0400 (Tue, 21 Oct 2025) EllapsedTime: 244.3 seconds RetCode: 0 Status: OK PackageFile: kebabs_1.43.1.tar.gz PackageFileSize: 2.266 MiB