Package: iterativeBMA Version: 1.69.0 Command: /home/biocbuild/bbs-3.23-bioc/R/bin/R CMD INSTALL iterativeBMA StartedAt: 2025-11-21 15:13:03 -0500 (Fri, 21 Nov 2025) EndedAt: 2025-11-21 15:13:11 -0500 (Fri, 21 Nov 2025) EllapsedTime: 7.4 seconds RetCode: 0 Status: OK