Package: iterativeBMA Version: 1.69.0 Command: /Library/Frameworks/R.framework/Resources/bin/R CMD INSTALL iterativeBMA StartedAt: 2025-11-18 15:18:17 -0500 (Tue, 18 Nov 2025) EndedAt: 2025-11-18 15:18:34 -0500 (Tue, 18 Nov 2025) EllapsedTime: 17.1 seconds RetCode: 0 Status: OK