Package: iterativeBMA Version: 1.69.0 Command: /Library/Frameworks/R.framework/Resources/bin/R CMD build --keep-empty-dirs --no-resave-data iterativeBMA StartedAt: 2025-11-17 17:40:25 -0500 (Mon, 17 Nov 2025) EndedAt: 2025-11-17 17:40:48 -0500 (Mon, 17 Nov 2025) EllapsedTime: 22.9 seconds RetCode: 0 Status: OK PackageFile: iterativeBMA_1.69.0.tar.gz PackageFileSize: 158.5 KiB