Package: iterativeBMA Version: 1.69.0 Command: rm -rf iterativeBMA.buildbin-libdir && mkdir iterativeBMA.buildbin-libdir && /Users/biocbuild/BBS/utils/build-universal.sh iterativeBMA_1.69.0.tar.gz /Library/Frameworks/R.framework/Resources/bin/R iterativeBMA.buildbin-libdir StartedAt: 2025-11-18 07:06:35 -0500 (Tue, 18 Nov 2025) EndedAt: 2025-11-18 07:06:48 -0500 (Tue, 18 Nov 2025) EllapsedTime: 12.7 seconds RetCode: 0 Status: OK PackageFile: iterativeBMA_1.69.0.tgz PackageFileSize: 214.6 KiB