Package: iterativeBMA Version: 1.69.0 Command: /Library/Frameworks/R.framework/Resources/bin/R CMD INSTALL iterativeBMA StartedAt: 2025-11-13 15:06:55 -0500 (Thu, 13 Nov 2025) EndedAt: 2025-11-13 15:06:58 -0500 (Thu, 13 Nov 2025) EllapsedTime: 2.7 seconds RetCode: 0 Status: OK