Package: iterativeBMA Version: 1.69.0 Command: /Library/Frameworks/R.framework/Resources/bin/R CMD build --keep-empty-dirs --no-resave-data iterativeBMA StartedAt: 2025-11-13 16:48:50 -0500 (Thu, 13 Nov 2025) EndedAt: 2025-11-13 16:48:59 -0500 (Thu, 13 Nov 2025) EllapsedTime: 8.1 seconds RetCode: 0 Status: OK PackageFile: iterativeBMA_1.69.0.tar.gz PackageFileSize: 159 KiB