Package: interactiveDisplayBase Version: 1.47.1 Command: /home/biocbuild/R/R/bin/R CMD INSTALL interactiveDisplayBase StartedAt: 2025-10-02 20:31:44 -0000 (Thu, 02 Oct 2025) EndedAt: 2025-10-02 20:31:51 -0000 (Thu, 02 Oct 2025) EllapsedTime: 6.6 seconds RetCode: 0 Status: OK