Package: interactiveDisplayBase Version: 1.47.1 Command: /home/biocbuild/bbs-3.23-bioc/R/bin/R CMD INSTALL interactiveDisplayBase StartedAt: 2025-10-22 21:29:28 -0000 (Wed, 22 Oct 2025) EndedAt: 2025-10-22 21:29:31 -0000 (Wed, 22 Oct 2025) EllapsedTime: 3.5 seconds RetCode: 0 Status: OK