Package: interactiveDisplayBase Version: 1.47.1 Command: /home/biocbuild/bbs-3.23-bioc/R/bin/R CMD build --keep-empty-dirs --no-resave-data interactiveDisplayBase StartedAt: 2025-10-22 23:22:30 -0000 (Wed, 22 Oct 2025) EndedAt: 2025-10-22 23:22:36 -0000 (Wed, 22 Oct 2025) EllapsedTime: 6.0 seconds RetCode: 0 Status: OK PackageFile: interactiveDisplayBase_1.47.1.tar.gz PackageFileSize: 8.083 KiB