Package: immunogenViewer Version: 1.3.1 Command: /home/biocbuild/bbs-3.22-bioc/R/bin/R CMD INSTALL immunogenViewer StartedAt: 2025-09-29 15:37:19 -0400 (Mon, 29 Sep 2025) EndedAt: 2025-09-29 15:37:38 -0400 (Mon, 29 Sep 2025) EllapsedTime: 19.8 seconds RetCode: 0 Status: OK