Package: idiogram Version: 1.85.0 Command: /home/biocbuild/bbs-3.22-bioc/R/bin/R CMD INSTALL idiogram StartedAt: 2025-10-06 15:29:24 -0400 (Mon, 06 Oct 2025) EndedAt: 2025-10-06 15:29:40 -0400 (Mon, 06 Oct 2025) EllapsedTime: 15.7 seconds RetCode: 0 Status: OK