Package: idiogram Version: 1.85.0 Command: /home/biocbuild/bbs-3.22-bioc/R/bin/R CMD build --keep-empty-dirs --no-resave-data --md5 idiogram StartedAt: 2025-10-06 18:09:22 -0400 (Mon, 06 Oct 2025) EndedAt: 2025-10-06 18:09:44 -0400 (Mon, 06 Oct 2025) EllapsedTime: 22.0 seconds RetCode: 0 Status: OK PackageFile: idiogram_1.85.0.tar.gz PackageFileSize: 1.796 MiB